View In:
ArcGIS JavaScript
ArcGIS Online Map Viewer
ArcGIS Earth
ArcMap
ArcGIS Pro
View Footprint In:
ArcGIS Online Map Viewer
Service Description:
Map Name: Map
Legend
All Layers and Tables
Layers:
Description:
Service Item Id: 254d345dc1d44cdb843c8a5be55f07f9
Copyright Text:
Spatial Reference:
PROJCS["MEXICO_ITRF_2008_LCC",GEOGCS["GCS_MEXICO_ITRF_2008",DATUM["International_Terrestrial_Reference_Frame_2008",SPHEROID["GRS 1980",6378137.0,298.257222101]],PRIMEM["Greenwich",0.0],UNIT["Degree",0.0174532925199433]],PROJECTION["Lambert_Conformal_Conic_2SP"],PARAMETER["false_easting",2500000.0],PARAMETER["false_northing",0.0],PARAMETER["central_meridian",-102.0],PARAMETER["standard_parallel_1",17.5],PARAMETER["standard_parallel_2",29.5],PARAMETER["latitude_of_origin",12.0],UNIT["metre",1.0]]
Single Fused Map Cache: true
Tile Info:
- Height: 256
- Width: 256
- DPI: 96
-
Levels of Detail: 19
-
Level ID: 0
[ Start Tile, End Tile ]
- Resolution: 308839.7395930267
- Scale: 1.1672683071232505E9
-
Level ID: 1
[ Start Tile, End Tile ]
- Resolution: 154419.86979651335
- Scale: 5.836341535616252E8
-
Level ID: 2
[ Start Tile, End Tile ]
- Resolution: 77209.93489825667
- Scale: 2.918170767808126E8
-
Level ID: 3
[ Start Tile, End Tile ]
- Resolution: 38604.96744912834
- Scale: 1.459085383904063E8
-
Level ID: 4
[ Start Tile, End Tile ]
- Resolution: 19302.48372456417
- Scale: 7.295426919520316E7
-
Level ID: 5
[ Start Tile, End Tile ]
- Resolution: 9651.241862282084
- Scale: 3.647713459760158E7
-
Level ID: 6
[ Start Tile, End Tile ]
- Resolution: 4825.620931141042
- Scale: 1.823856729880079E7
-
Level ID: 7
[ Start Tile, End Tile ]
- Resolution: 2412.810465570521
- Scale: 9119283.649400394
-
Level ID: 8
[ Start Tile, End Tile ]
- Resolution: 1206.4052327852605
- Scale: 4559641.824700197
-
Level ID: 9
[ Start Tile, End Tile ]
- Resolution: 603.2026163926303
- Scale: 2279820.9123500986
-
Level ID: 10
[ Start Tile, End Tile ]
- Resolution: 301.60130819631513
- Scale: 1139910.4561750493
-
Level ID: 11
[ Start Tile, End Tile ]
- Resolution: 150.80065409815757
- Scale: 569955.2280875247
-
Level ID: 12
[ Start Tile, End Tile ]
- Resolution: 75.40032704907878
- Scale: 284977.6140437623
-
Level ID: 13
[ Start Tile, End Tile ]
- Resolution: 37.70016352453939
- Scale: 142488.80702188116
-
Level ID: 14
[ Start Tile, End Tile ]
- Resolution: 18.850081762269696
- Scale: 71244.40351094058
-
Level ID: 15
[ Start Tile, End Tile ]
- Resolution: 9.425040881134848
- Scale: 35622.20175547029
-
Level ID: 16
[ Start Tile, End Tile ]
- Resolution: 4.712520440567424
- Scale: 17811.100877735145
-
Level ID: 17
[ Start Tile, End Tile ]
- Resolution: 2.356260220283712
- Scale: 8905.550438867573
-
Level ID: 18
[ Start Tile, End Tile ]
- Resolution: 1.178130110141856
- Scale: 4452.775219433786
- Format: PNG
- Compression Quality: 0.0
- Origin: X: -3.703148666790746E7
Y: 3.458140566679593E7
- Spatial Reference: PROJCS["MEXICO_ITRF_2008_LCC",GEOGCS["GCS_MEXICO_ITRF_2008",DATUM["International_Terrestrial_Reference_Frame_2008",SPHEROID["GRS 1980",6378137.0,298.257222101]],PRIMEM["Greenwich",0.0],UNIT["Degree",0.0174532925199433]],PROJECTION["Lambert_Conformal_Conic_2SP"],PARAMETER["false_easting",2500000.0],PARAMETER["false_northing",0.0],PARAMETER["central_meridian",-102.0],PARAMETER["standard_parallel_1",17.5],PARAMETER["standard_parallel_2",29.5],PARAMETER["latitude_of_origin",12.0],UNIT["metre",1.0]]
Storage Info:
- Storage Format: esriMapCacheStorageModeCompactV2
- Packet Size: 128
Initial Extent:
XMin: 2188012.2239092747
YMin: 443576.1274439404
XMax: 3035659.201882337
YMax: 2081366.393929582
Spatial Reference: PROJCS["MEXICO_ITRF_2008_LCC",GEOGCS["GCS_MEXICO_ITRF_2008",DATUM["International_Terrestrial_Reference_Frame_2008",SPHEROID["GRS 1980",6378137.0,298.257222101]],PRIMEM["Greenwich",0.0],UNIT["Degree",0.0174532925199433]],PROJECTION["Lambert_Conformal_Conic_2SP"],PARAMETER["false_easting",2500000.0],PARAMETER["false_northing",0.0],PARAMETER["central_meridian",-102.0],PARAMETER["standard_parallel_1",17.5],PARAMETER["standard_parallel_2",29.5],PARAMETER["latitude_of_origin",12.0],UNIT["metre",1.0]]
Full Extent:
XMin: 911292.029499992
YMin: 319149.06249989383
XMax: 4083063.0953000076
YMax: 2349614.8717
Spatial Reference: PROJCS["MEXICO_ITRF_2008_LCC",GEOGCS["GCS_MEXICO_ITRF_2008",DATUM["International_Terrestrial_Reference_Frame_2008",SPHEROID["GRS 1980",6378137.0,298.257222101]],PRIMEM["Greenwich",0.0],UNIT["Degree",0.0174532925199433]],PROJECTION["Lambert_Conformal_Conic_2SP"],PARAMETER["false_easting",2500000.0],PARAMETER["false_northing",0.0],PARAMETER["central_meridian",-102.0],PARAMETER["standard_parallel_1",17.5],PARAMETER["standard_parallel_2",29.5],PARAMETER["latitude_of_origin",12.0],UNIT["metre",1.0]]
Units: esriMeters
Supported Image Format Types: PNG32,PNG24,PNG,JPG,DIB,TIFF,EMF,PS,PDF,GIF,SVG,SVGZ,BMP
Document Info:
Title: Map
Author:
Comments:
Subject:
Category:
Keywords:
AntialiasingMode: Fast
TextAntialiasingMode: Force
Supports Dynamic Layers: false
MaxRecordCount: 1000
MaxImageHeight: 4096
MaxImageWidth: 4096
Supported Query Formats: JSON, geoJSON, PBF
Supports Query Data Elements: true
Min Scale: 1.823856729880079E7
Max Scale: 569955.2280875247
Supports Datum Transformation: true
Child Resources:
Info
Supported Operations:
QueryLegends
Return Updates