View In:
ArcGIS JavaScript
ArcGIS Online Map Viewer
ArcGIS Earth
ArcMap
ArcGIS Pro
View Footprint In:
ArcGIS Online Map Viewer
Service Description:
Map Name: callespb1
Legend
All Layers and Tables
Layers:
Description:
Service Item Id: 99c2e78d2cb94b4198411d497b27d429
Copyright Text:
Spatial Reference:
102100
(3857)
Single Fused Map Cache: true
Tile Info:
- Height: 256
- Width: 256
- DPI: 96
-
Levels of Detail: 24
-
Level ID: 1
[ Start Tile, End Tile ]
- Resolution: 78271.5169639999
- Scale: 2.95828763795777E8
-
Level ID: 2
[ Start Tile, End Tile ]
- Resolution: 39135.7584820001
- Scale: 1.47914381897889E8
-
Level ID: 3
[ Start Tile, End Tile ]
- Resolution: 19567.8792409999
- Scale: 7.3957190948944E7
-
Level ID: 4
[ Start Tile, End Tile ]
- Resolution: 9783.93962049996
- Scale: 3.6978595474472E7
-
Level ID: 5
[ Start Tile, End Tile ]
- Resolution: 4891.96981024998
- Scale: 1.8489297737236E7
- Format: PNG8
- Compression Quality: 0.0
- Origin: X: -2.0037508342787E7
Y: 2.0037508342787E7
- Spatial Reference: 102100
(3857)
Storage Info:
- Storage Format: esriMapCacheStorageModeCompactV2
- Packet Size: 128
Initial Extent:
XMin: -1.0938101723423146E7
YMin: 2149176.3413086
XMax: -1.092254439950998E7
YMax: 2167752.9278390314
Spatial Reference: PROJCS["Popular_Visualisation_CRS_Mercator",GEOGCS["GCS_Popular_Visualisation_CRS",DATUM["D_WGS_1984_Major_Auxiliary_Sphere",SPHEROID["Popular_Visualisation_Sphere",6378137.0,0.0]],PRIMEM["Greenwich",0.0],UNIT["Degree",0.0174532925199433]],PROJECTION["Mercator"],PARAMETER["false_easting",0.0],PARAMETER["false_northing",0.0],PARAMETER["central_meridian",0.0],PARAMETER["standard_parallel_1",0.0],UNIT["Meter",1.0]]
Full Extent:
XMin: -1.0938101723423146E7
YMin: 2149176.3413086
XMax: -1.092254439950998E7
YMax: 2167752.9278390314
Spatial Reference: PROJCS["Popular_Visualisation_CRS_Mercator",GEOGCS["GCS_Popular_Visualisation_CRS",DATUM["D_WGS_1984_Major_Auxiliary_Sphere",SPHEROID["Popular_Visualisation_Sphere",6378137.0,0.0]],PRIMEM["Greenwich",0.0],UNIT["Degree",0.0174532925199433]],PROJECTION["Mercator"],PARAMETER["false_easting",0.0],PARAMETER["false_northing",0.0],PARAMETER["central_meridian",0.0],PARAMETER["standard_parallel_1",0.0],UNIT["Meter",1.0]]
Units: esriMeters
Supported Image Format Types:
Document Info:
Supports Dynamic Layers: false
Resampling: true
MaxRecordCount: 0
MaxImageHeight: 0
MaxImageWidth: 0
Supported Query Formats:
Supports Query Data Elements:
Min Scale: 5.91657527591555E8
Max Scale: 4513.988705
Min LOD: 0
Max LOD: 17
Child Resources:
Info
Supported Operations:
QueryLegends
EstimateExportTilesSize
ExportTiles
Return Updates